Package: tidyomics Version: 1.2.0 Command: /Library/Frameworks/R.framework/Resources/bin/R CMD INSTALL tidyomics StartedAt: 2025-01-30 16:21:54 -0500 (Thu, 30 Jan 2025) EndedAt: 2025-01-30 16:23:08 -0500 (Thu, 30 Jan 2025) EllapsedTime: 74.4 seconds RetCode: 0 Status: OK