Package: tidyomics Version: 1.2.0 Command: /home/biocbuild/bbs-3.20-bioc/R/bin/R CMD INSTALL tidyomics StartedAt: 2025-01-30 15:47:50 -0500 (Thu, 30 Jan 2025) EndedAt: 2025-01-30 15:48:27 -0500 (Thu, 30 Jan 2025) EllapsedTime: 36.6 seconds RetCode: 0 Status: OK