Package: tidyomics Version: 1.2.0 Command: chmod a+r tidyomics -R && F:\biocbuild\bbs-3.20-bioc\R\bin\R.exe CMD build --keep-empty-dirs --no-resave-data tidyomics StartedAt: 2025-01-30 22:18:10 -0500 (Thu, 30 Jan 2025) EndedAt: 2025-01-30 22:19:06 -0500 (Thu, 30 Jan 2025) EllapsedTime: 56.0 seconds RetCode: 0 Status: OK PackageFile: tidyomics_1.2.0.tar.gz PackageFileSize: 55.46 KiB