Package: tidyomics Version: 1.2.0 Command: F:\biocbuild\bbs-3.20-bioc\R\bin\R.exe CMD INSTALL tidyomics StartedAt: 2025-01-30 16:35:34 -0500 (Thu, 30 Jan 2025) EndedAt: 2025-01-30 16:36:24 -0500 (Thu, 30 Jan 2025) EllapsedTime: 49.6 seconds RetCode: 0 Status: OK