Package: tidytof Version: 1.0.0 Command: rm -rf tidytof.buildbin-libdir && mkdir tidytof.buildbin-libdir && /Users/biocbuild/BBS/utils/build-universal.sh tidytof_1.0.0.tar.gz /Library/Frameworks/R.framework/Resources/bin/R tidytof.buildbin-libdir StartedAt: 2025-02-19 17:25:42 -0500 (Wed, 19 Feb 2025) EndedAt: 2025-02-19 17:26:17 -0500 (Wed, 19 Feb 2025) EllapsedTime: 34.9 seconds RetCode: 0 Status: OK PackageFile: tidytof_1.0.0.tgz PackageFileSize: 3.173 <A href="http://en.wikipedia.org/wiki/MiB" target="_blank">MiB</A>