Package: tigre Version: 1.60.0 Command: rm -rf tigre.buildbin-libdir && mkdir tigre.buildbin-libdir && /Users/biocbuild/BBS/utils/build-universal.sh tigre_1.60.0.tar.gz /Library/Frameworks/R.framework/Resources/bin/R tigre.buildbin-libdir StartedAt: 2025-02-05 18:07:08 -0500 (Wed, 05 Feb 2025) EndedAt: 2025-02-05 18:07:34 -0500 (Wed, 05 Feb 2025) EllapsedTime: 26.0 seconds RetCode: 0 Status: OK PackageFile: tigre_1.60.0.tgz PackageFileSize: 971.3 KiB