Package: tigre Version: 1.60.0 Command: /Library/Frameworks/R.framework/Resources/bin/R CMD build --keep-empty-dirs --no-resave-data tigre StartedAt: 2025-02-11 09:38:33 -0500 (Tue, 11 Feb 2025) EndedAt: 2025-02-11 09:42:10 -0500 (Tue, 11 Feb 2025) EllapsedTime: 217.3 seconds RetCode: 0 Status: OK PackageFile: tigre_1.60.0.tar.gz PackageFileSize: 317.6 KiB