Package: tigre Version: 1.60.0 Command: /Library/Frameworks/R.framework/Resources/bin/R CMD check --install=check:tigre.install-out.txt --library=/Library/Frameworks/R.framework/Resources/library --no-vignettes --timings tigre_1.60.0.tar.gz StartedAt: 2025-02-05 12:54:27 -0500 (Wed, 05 Feb 2025) EndedAt: 2025-02-05 12:57:06 -0500 (Wed, 05 Feb 2025) EllapsedTime: 159.7 seconds RetCode: 0 Status: OK CheckDir: tigre.Rcheck Warnings: 0