Package: tigre Version: 1.60.0 Command: rm -rf tigre.buildbin-libdir && mkdir tigre.buildbin-libdir && /Users/biocbuild/BBS/utils/build-universal.sh tigre_1.60.0.tar.gz /Library/Frameworks/R.framework/Resources/bin/R tigre.buildbin-libdir StartedAt: 2024-11-09 17:15:42 -0500 (Sat, 09 Nov 2024) EndedAt: 2024-11-09 17:15:51 -0500 (Sat, 09 Nov 2024) EllapsedTime: 8.2 seconds RetCode: 0 Status: OK PackageFile: tigre_1.60.0.tgz PackageFileSize: 978.5 KiB