Package: tigre Version: 1.60.0 Command: /Library/Frameworks/R.framework/Resources/bin/R CMD INSTALL tigre StartedAt: 2025-02-10 15:29:28 -0500 (Mon, 10 Feb 2025) EndedAt: 2025-02-10 15:30:14 -0500 (Mon, 10 Feb 2025) EllapsedTime: 46.5 seconds RetCode: 0 Status: OK