Package: tigre Version: 1.60.0 Command: /home/biocbuild/bbs-3.20-bioc/R/bin/R CMD build --keep-empty-dirs --no-resave-data --md5 tigre StartedAt: 2025-01-30 19:28:52 -0500 (Thu, 30 Jan 2025) EndedAt: 2025-01-30 19:31:52 -0500 (Thu, 30 Jan 2025) EllapsedTime: 180.2 seconds RetCode: 0 Status: OK PackageFile: tigre_1.60.0.tar.gz PackageFileSize: 318.7 KiB