Package: tigre Version: 1.60.0 Command: /home/biocbuild/bbs-3.20-bioc/R/bin/R CMD INSTALL tigre StartedAt: 2025-01-30 15:20:07 -0500 (Thu, 30 Jan 2025) EndedAt: 2025-01-30 15:20:27 -0500 (Thu, 30 Jan 2025) EllapsedTime: 19.6 seconds RetCode: 0 Status: OK