Package: tigre Version: 1.60.0 Command: rm -rf tigre.buildbin-libdir && mkdir tigre.buildbin-libdir && F:\biocbuild\bbs-3.20-bioc\R\bin\R.exe CMD INSTALL --build --library=tigre.buildbin-libdir tigre_1.60.0.tar.gz StartedAt: 2025-01-31 09:47:02 -0500 (Fri, 31 Jan 2025) EndedAt: 2025-01-31 09:48:02 -0500 (Fri, 31 Jan 2025) EllapsedTime: 60.7 seconds RetCode: 0 Status: OK PackageFile: tigre_1.60.0.zip PackageFileSize: 983.8 KiB