Package: tigre Version: 1.60.0 Command: chmod a+r tigre -R && F:\biocbuild\bbs-3.20-bioc\R\bin\R.exe CMD build --keep-empty-dirs --no-resave-data tigre StartedAt: 2025-01-30 22:19:05 -0500 (Thu, 30 Jan 2025) EndedAt: 2025-01-30 22:22:35 -0500 (Thu, 30 Jan 2025) EllapsedTime: 209.5 seconds RetCode: 0 Status: OK PackageFile: tigre_1.60.0.tar.gz PackageFileSize: 317.8 KiB