Package: tilingArray
Version: 1.84.0
Command: rm -rf tilingArray.buildbin-libdir && mkdir tilingArray.buildbin-libdir && /Users/biocbuild/BBS/utils/build-universal.sh tilingArray_1.84.0.tar.gz /Library/Frameworks/R.framework/Resources/bin/R tilingArray.buildbin-libdir
StartedAt: 2024-11-20 04:55:46 -0500 (Wed, 20 Nov 2024)
EndedAt: 2024-11-20 04:56:28 -0500 (Wed, 20 Nov 2024)
EllapsedTime: 41.5 seconds
RetCode: 0
Status: OK
PackageFile: tilingArray_1.84.0.tgz
PackageFileSize: 3.873 <A href="http://en.wikipedia.org/wiki/MiB" target="_blank">MiB</A>