Package: timeOmics Version: 1.18.0 Command: /Library/Frameworks/R.framework/Resources/bin/R CMD build --keep-empty-dirs --no-resave-data timeOmics StartedAt: 2025-02-04 09:46:32 -0500 (Tue, 04 Feb 2025) EndedAt: 2025-02-04 09:47:14 -0500 (Tue, 04 Feb 2025) EllapsedTime: 42.7 seconds RetCode: 0 Status: OK PackageFile: timeOmics_1.18.0.tar.gz PackageFileSize: 4.011 MiB