Package: timeOmics Version: 1.18.0 Command: /Library/Frameworks/R.framework/Resources/bin/R CMD check --install=check:timeOmics.install-out.txt --library=/Library/Frameworks/R.framework/Resources/library --no-vignettes --timings timeOmics_1.18.0.tar.gz StartedAt: 2025-02-05 12:56:22 -0500 (Wed, 05 Feb 2025) EndedAt: 2025-02-05 12:59:13 -0500 (Wed, 05 Feb 2025) EllapsedTime: 170.6 seconds RetCode: 0 Status: WARNINGS CheckDir: timeOmics.Rcheck Warnings: 2