Package: timeOmics Version: 1.18.0 Command: /Library/Frameworks/R.framework/Resources/bin/R CMD INSTALL timeOmics StartedAt: 2025-02-03 16:31:39 -0500 (Mon, 03 Feb 2025) EndedAt: 2025-02-03 16:31:51 -0500 (Mon, 03 Feb 2025) EllapsedTime: 12.4 seconds RetCode: 0 Status: OK