Package: timeOmics
Version: 1.18.0
Command: rm -rf timeOmics.buildbin-libdir && mkdir timeOmics.buildbin-libdir && /Users/biocbuild/BBS/utils/build-universal.sh timeOmics_1.18.0.tar.gz /Library/Frameworks/R.framework/Resources/bin/R timeOmics.buildbin-libdir
StartedAt: 2025-02-18 13:16:50 -0500 (Tue, 18 Feb 2025)
EndedAt: 2025-02-18 13:17:29 -0500 (Tue, 18 Feb 2025)
EllapsedTime: 38.5 seconds
RetCode: 0
Status: OK
PackageFile: timeOmics_1.18.0.tgz
PackageFileSize: 3.422 <A href="http://en.wikipedia.org/wiki/MiB" target="_blank">MiB</A>