Package: timeOmics Version: 1.18.0 Command: /Library/Frameworks/R.framework/Resources/bin/R CMD build --keep-empty-dirs --no-resave-data timeOmics StartedAt: 2025-02-03 22:56:06 -0500 (Mon, 03 Feb 2025) EndedAt: 2025-02-03 22:57:27 -0500 (Mon, 03 Feb 2025) EllapsedTime: 81.4 seconds RetCode: 0 Status: OK PackageFile: timeOmics_1.18.0.tar.gz PackageFileSize: 4.011 MiB