Package: timeOmics Version: 1.18.0 Command: rm -rf timeOmics.buildbin-libdir && mkdir timeOmics.buildbin-libdir && F:\biocbuild\bbs-3.20-bioc\R\bin\R.exe CMD INSTALL --build --library=timeOmics.buildbin-libdir timeOmics_1.18.0.tar.gz StartedAt: 2025-02-04 09:41:10 -0500 (Tue, 04 Feb 2025) EndedAt: 2025-02-04 09:41:45 -0500 (Tue, 04 Feb 2025) EllapsedTime: 34.3 seconds RetCode: 0 Status: OK PackageFile: timeOmics_1.18.0.zip PackageFileSize: 2.249 MiB