Package: timeOmics Version: 1.18.0 Command: chmod a+r timeOmics -R && F:\biocbuild\bbs-3.20-bioc\R\bin\R.exe CMD build --keep-empty-dirs --no-resave-data timeOmics StartedAt: 2025-02-03 22:37:00 -0500 (Mon, 03 Feb 2025) EndedAt: 2025-02-03 22:38:00 -0500 (Mon, 03 Feb 2025) EllapsedTime: 60.5 seconds RetCode: 0 Status: OK PackageFile: timeOmics_1.18.0.tar.gz PackageFileSize: 2.767 MiB