Package: timeOmics Version: 1.18.0 Command: F:\biocbuild\bbs-3.20-bioc\R\bin\R.exe CMD check --no-multiarch --install=check:timeOmics.install-out.txt --library=F:\biocbuild\bbs-3.20-bioc\R\library --no-vignettes --timings timeOmics_1.18.0.tar.gz StartedAt: 2025-02-04 07:05:36 -0500 (Tue, 04 Feb 2025) EndedAt: 2025-02-04 07:09:08 -0500 (Tue, 04 Feb 2025) EllapsedTime: 212.4 seconds RetCode: 0 Status: WARNINGS CheckDir: timeOmics.Rcheck Warnings: 2