Package: timeOmics Version: 1.18.0 Command: /home/biocbuild/R/R/bin/R CMD INSTALL timeOmics StartedAt: 2025-02-03 20:54:20 -0000 (Mon, 03 Feb 2025) EndedAt: 2025-02-03 20:54:32 -0000 (Mon, 03 Feb 2025) EllapsedTime: 12.0 seconds RetCode: 0 Status: OK