Package: timecourse Version: 1.78.0 Command: chmod a+r timecourse -R && F:\biocbuild\bbs-3.20-bioc\R\bin\R.exe CMD build --keep-empty-dirs --no-resave-data timecourse StartedAt: 2025-02-17 22:22:38 -0500 (Mon, 17 Feb 2025) EndedAt: 2025-02-17 22:23:07 -0500 (Mon, 17 Feb 2025) EllapsedTime: 29.7 seconds RetCode: 0 Status: OK PackageFile: timecourse_1.78.0.tar.gz PackageFileSize: 712.8 <A href="http://en.wikipedia.org/wiki/KiB" target="_blank">KiB</A>