Package: timecourse Version: 1.78.0 Command: /home/biocbuild/R/R/bin/R CMD build --keep-empty-dirs --no-resave-data timecourse StartedAt: 2025-02-04 03:33:01 -0000 (Tue, 04 Feb 2025) EndedAt: 2025-02-04 03:33:27 -0000 (Tue, 04 Feb 2025) EllapsedTime: 26.0 seconds RetCode: 0 Status: OK PackageFile: timecourse_1.78.0.tar.gz PackageFileSize: 832.8 KiB