Package: timecourse Version: 1.78.0 Command: /home/biocbuild/R/R/bin/R CMD INSTALL timecourse StartedAt: 2025-02-03 20:26:00 -0000 (Mon, 03 Feb 2025) EndedAt: 2025-02-03 20:26:11 -0000 (Mon, 03 Feb 2025) EllapsedTime: 10.4 seconds RetCode: 0 Status: OK