Package: timescape Version: 1.30.0 Command: /Library/Frameworks/R.framework/Resources/bin/R CMD check --install=check:timescape.install-out.txt --library=/Library/Frameworks/R.framework/Resources/library --no-vignettes --timings timescape_1.30.0.tar.gz StartedAt: 2025-02-01 12:03:08 -0500 (Sat, 01 Feb 2025) EndedAt: 2025-02-01 12:03:33 -0500 (Sat, 01 Feb 2025) EllapsedTime: 24.4 seconds RetCode: 0 Status: WARNINGS CheckDir: timescape.Rcheck Warnings: 1