Package: timescape Version: 1.30.0 Command: /home/biocbuild/bbs-3.20-bioc/R/bin/R CMD check --install=check:timescape.install-out.txt --library=/home/biocbuild/bbs-3.20-bioc/R/site-library --timings timescape_1.30.0.tar.gz StartedAt: 2025-01-31 03:02:38 -0500 (Fri, 31 Jan 2025) EndedAt: 2025-01-31 03:02:55 -0500 (Fri, 31 Jan 2025) EllapsedTime: 17.0 seconds RetCode: 0 Status: WARNINGS CheckDir: timescape.Rcheck Warnings: 1