Package: timescape Version: 1.29.0 Command: rm -rf timescape.buildbin-libdir && mkdir timescape.buildbin-libdir && C:\Users\biocbuild\bbs-3.20-bioc\R\bin\R.exe CMD INSTALL --build --library=timescape.buildbin-libdir timescape_1.29.0.tar.gz StartedAt: 2024-07-16 06:51:12 -0400 (Tue, 16 Jul 2024) EndedAt: 2024-07-16 06:51:21 -0400 (Tue, 16 Jul 2024) EllapsedTime: 9.7 seconds RetCode: 0 Status: OK PackageFile: timescape_1.29.0.zip PackageFileSize: 482 KiB