Package: timescape Version: 1.30.0 Command: rm -rf timescape.buildbin-libdir && mkdir timescape.buildbin-libdir && F:\biocbuild\bbs-3.20-bioc\R\bin\R.exe CMD INSTALL --build --library=timescape.buildbin-libdir timescape_1.30.0.tar.gz StartedAt: 2025-02-04 09:41:12 -0500 (Tue, 04 Feb 2025) EndedAt: 2025-02-04 09:41:22 -0500 (Tue, 04 Feb 2025) EllapsedTime: 9.7 seconds RetCode: 0 Status: OK PackageFile: timescape_1.30.0.zip PackageFileSize: 481.9 KiB