Package: timescape Version: 1.30.0 Command: chmod a+r timescape -R && F:\biocbuild\bbs-3.20-bioc\R\bin\R.exe CMD build --keep-empty-dirs --no-resave-data timescape StartedAt: 2025-02-03 22:37:01 -0500 (Mon, 03 Feb 2025) EndedAt: 2025-02-03 22:37:17 -0500 (Mon, 03 Feb 2025) EllapsedTime: 15.4 seconds RetCode: 0 Status: OK PackageFile: timescape_1.30.0.tar.gz PackageFileSize: 673.6 KiB