Package: timescape Version: 1.30.0 Command: F:\biocbuild\bbs-3.20-bioc\R\bin\R.exe CMD INSTALL timescape StartedAt: 2025-01-30 15:52:40 -0500 (Thu, 30 Jan 2025) EndedAt: 2025-01-30 15:52:54 -0500 (Thu, 30 Jan 2025) EllapsedTime: 14.2 seconds RetCode: 0 Status: OK