Package: timescape Version: 1.30.0 Command: /home/biocbuild/R/R/bin/R CMD INSTALL timescape StartedAt: 2025-02-03 20:57:45 -0000 (Mon, 03 Feb 2025) EndedAt: 2025-02-03 20:57:47 -0000 (Mon, 03 Feb 2025) EllapsedTime: 2.6 seconds RetCode: 0 Status: OK