Package: tkWidgets Version: 1.84.0 Command: /Library/Frameworks/R.framework/Resources/bin/R CMD check --install=check:tkWidgets.install-out.txt --library=/Library/Frameworks/R.framework/Resources/library --no-vignettes --timings tkWidgets_1.84.0.tar.gz StartedAt: 2025-02-05 12:58:23 -0500 (Wed, 05 Feb 2025) EndedAt: 2025-02-05 12:59:11 -0500 (Wed, 05 Feb 2025) EllapsedTime: 47.8 seconds RetCode: 0 Status: OK CheckDir: tkWidgets.Rcheck Warnings: 0