Package: tkWidgets Version: 1.84.0 Command: /Library/Frameworks/R.framework/Resources/bin/R CMD INSTALL tkWidgets StartedAt: 2025-02-03 15:21:52 -0500 (Mon, 03 Feb 2025) EndedAt: 2025-02-03 15:22:00 -0500 (Mon, 03 Feb 2025) EllapsedTime: 8.1 seconds RetCode: 0 Status: OK