Package: tkWidgets Version: 1.84.0 Command: /Library/Frameworks/R.framework/Resources/bin/R CMD build --keep-empty-dirs --no-resave-data tkWidgets StartedAt: 2025-02-03 22:56:48 -0500 (Mon, 03 Feb 2025) EndedAt: 2025-02-03 22:57:25 -0500 (Mon, 03 Feb 2025) EllapsedTime: 37.2 seconds RetCode: 0 Status: OK PackageFile: tkWidgets_1.84.0.tar.gz PackageFileSize: 475 KiB