Package: tkWidgets Version: 1.84.0 Command: /home/biocbuild/bbs-3.20-bioc/R/bin/R CMD check --install=check:tkWidgets.install-out.txt --library=/home/biocbuild/bbs-3.20-bioc/R/site-library --timings tkWidgets_1.84.0.tar.gz StartedAt: 2025-02-04 03:14:25 -0500 (Tue, 04 Feb 2025) EndedAt: 2025-02-04 03:14:59 -0500 (Tue, 04 Feb 2025) EllapsedTime: 34.0 seconds RetCode: 0 Status: OK CheckDir: tkWidgets.Rcheck Warnings: 0