Package: tkWidgets Version: 1.84.0 Command: /home/biocbuild/R/R/bin/R CMD build --keep-empty-dirs --no-resave-data tkWidgets StartedAt: 2025-02-04 03:33:49 -0000 (Tue, 04 Feb 2025) EndedAt: 2025-02-04 03:34:08 -0000 (Tue, 04 Feb 2025) EllapsedTime: 19.0 seconds RetCode: 0 Status: OK PackageFile: tkWidgets_1.84.0.tar.gz PackageFileSize: 468 KiB