Package: tkWidgets Version: 1.84.0 Command: /home/biocbuild/R/R/bin/R CMD check --install=check:tkWidgets.install-out.txt --library=/home/biocbuild/R/R/site-library --no-vignettes --timings tkWidgets_1.84.0.tar.gz StartedAt: 2025-02-04 11:45:55 -0000 (Tue, 04 Feb 2025) EndedAt: 2025-02-04 11:46:28 -0000 (Tue, 04 Feb 2025) EllapsedTime: 33.0 seconds RetCode: 0 Status: WARNINGS CheckDir: tkWidgets.Rcheck Warnings: 1