Package: tomoseqr Version: 1.10.0 Command: /Library/Frameworks/R.framework/Resources/bin/R CMD build --keep-empty-dirs --no-resave-data tomoseqr StartedAt: 2025-02-04 09:49:33 -0500 (Tue, 04 Feb 2025) EndedAt: 2025-02-04 09:49:57 -0500 (Tue, 04 Feb 2025) EllapsedTime: 23.7 seconds RetCode: 0 Status: OK PackageFile: tomoseqr_1.10.0.tar.gz PackageFileSize: 1.558 MiB