Package: tomoseqr Version: 1.10.0 Command: rm -rf tomoseqr.buildbin-libdir && mkdir tomoseqr.buildbin-libdir && F:\biocbuild\bbs-3.20-bioc\R\bin\R.exe CMD INSTALL --build --library=tomoseqr.buildbin-libdir tomoseqr_1.10.0.tar.gz StartedAt: 2025-02-04 09:41:48 -0500 (Tue, 04 Feb 2025) EndedAt: 2025-02-04 09:42:08 -0500 (Tue, 04 Feb 2025) EllapsedTime: 19.3 seconds RetCode: 0 Status: OK PackageFile: tomoseqr_1.10.0.zip PackageFileSize: 1.224 MiB