Package: tomoseqr Version: 1.10.0 Command: chmod a+r tomoseqr -R && F:\biocbuild\bbs-3.20-bioc\R\bin\R.exe CMD build --keep-empty-dirs --no-resave-data tomoseqr StartedAt: 2025-02-03 22:38:02 -0500 (Mon, 03 Feb 2025) EndedAt: 2025-02-03 22:38:32 -0500 (Mon, 03 Feb 2025) EllapsedTime: 29.9 seconds RetCode: 0 Status: OK PackageFile: tomoseqr_1.10.0.tar.gz PackageFileSize: 1.558 MiB