Package: topGO
Version: 2.58.0
Command: /Library/Frameworks/R.framework/Resources/bin/R CMD check --install=check:topGO.install-out.txt --library=/Library/Frameworks/R.framework/Resources/library --no-vignettes --timings topGO_2.58.0.tar.gz
StartedAt: 2025-02-19 12:24:23 -0500 (Wed, 19 Feb 2025)
EndedAt: 2025-02-19 12:26:56 -0500 (Wed, 19 Feb 2025)
EllapsedTime: 153.6 seconds
RetCode: 0
Status: OK
CheckDir: topGO.Rcheck
Warnings: 0