Package: topGO Version: 2.58.0 Command: /Library/Frameworks/R.framework/Resources/bin/R CMD INSTALL topGO StartedAt: 2025-02-03 15:41:50 -0500 (Mon, 03 Feb 2025) EndedAt: 2025-02-03 15:42:36 -0500 (Mon, 03 Feb 2025) EllapsedTime: 45.1 seconds RetCode: 0 Status: OK