Package: topGO Version: 2.58.0 Command: /home/biocbuild/bbs-3.20-bioc/R/bin/R CMD build --keep-empty-dirs --no-resave-data --md5 topGO StartedAt: 2025-02-03 19:39:59 -0500 (Mon, 03 Feb 2025) EndedAt: 2025-02-03 19:41:46 -0500 (Mon, 03 Feb 2025) EllapsedTime: 107.1 seconds RetCode: 0 Status: OK PackageFile: topGO_2.58.0.tar.gz PackageFileSize: 1.91 MiB