Package: topGO Version: 2.58.0 Command: F:\biocbuild\bbs-3.20-bioc\R\bin\R.exe CMD INSTALL topGO StartedAt: 2025-02-03 16:02:46 -0500 (Mon, 03 Feb 2025) EndedAt: 2025-02-03 16:04:03 -0500 (Mon, 03 Feb 2025) EllapsedTime: 77.1 seconds RetCode: 0 Status: OK