Package: topconfects Version: 1.22.0 Command: rm -rf topconfects.buildbin-libdir && mkdir topconfects.buildbin-libdir && /Users/biocbuild/BBS/utils/build-universal.sh topconfects_1.22.0.tar.gz /Library/Frameworks/R.framework/Resources/bin/R topconfects.buildbin-libdir StartedAt: 2025-02-19 17:27:15 -0500 (Wed, 19 Feb 2025) EndedAt: 2025-02-19 17:27:23 -0500 (Wed, 19 Feb 2025) EllapsedTime: 7.9 seconds RetCode: 0 Status: OK PackageFile: topconfects_1.22.0.tgz PackageFileSize: 2.556 <A href="http://en.wikipedia.org/wiki/MiB" target="_blank">MiB</A>