Package: topconfects Version: 1.22.0 Command: /Library/Frameworks/R.framework/Resources/bin/R CMD build --keep-empty-dirs --no-resave-data topconfects StartedAt: 2025-02-04 09:49:57 -0500 (Tue, 04 Feb 2025) EndedAt: 2025-02-04 09:52:21 -0500 (Tue, 04 Feb 2025) EllapsedTime: 143.8 seconds RetCode: 0 Status: OK PackageFile: topconfects_1.22.0.tar.gz PackageFileSize: 2.412 MiB