Package: topconfects Version: 1.22.0 Command: /home/biocbuild/bbs-3.20-bioc/R/bin/R CMD check --install=check:topconfects.install-out.txt --library=/home/biocbuild/bbs-3.20-bioc/R/site-library --timings topconfects_1.22.0.tar.gz StartedAt: 2025-02-04 03:15:49 -0500 (Tue, 04 Feb 2025) EndedAt: 2025-02-04 03:18:42 -0500 (Tue, 04 Feb 2025) EllapsedTime: 173.2 seconds RetCode: 0 Status: OK CheckDir: topconfects.Rcheck Warnings: 0